Package: IONiseR Version: 2.31.0 Command: chmod a+r IONiseR -R && E:\biocbuild\bbs-3.21-bioc\R\bin\R.exe CMD build --keep-empty-dirs --no-resave-data IONiseR StartedAt: 2025-02-09 19:25:24 -0500 (Sun, 09 Feb 2025) EndedAt: 2025-02-09 19:28:05 -0500 (Sun, 09 Feb 2025) EllapsedTime: 161.4 seconds RetCode: 0 Status: OK PackageFile: IONiseR_2.31.0.tar.gz PackageFileSize: 2.488 MiB