Package: IONiseR Version: 2.31.0 Command: E:\biocbuild\bbs-3.21-bioc\R\bin\R.exe CMD INSTALL IONiseR StartedAt: 2025-02-09 16:54:51 -0500 (Sun, 09 Feb 2025) EndedAt: 2025-02-09 16:55:43 -0500 (Sun, 09 Feb 2025) EllapsedTime: 51.5 seconds RetCode: 0 Status: OK