Package: IPO Version: 1.33.0 Command: /Library/Frameworks/R.framework/Resources/bin/R CMD build --keep-empty-dirs --no-resave-data IPO StartedAt: 2025-02-04 16:43:28 -0500 (Tue, 04 Feb 2025) EndedAt: 2025-02-04 16:43:55 -0500 (Tue, 04 Feb 2025) EllapsedTime: 27.3 seconds RetCode: 1 Status: ERROR PackageFile: None PackageFileSize: NA