Package: IPO Version: 1.33.0 Command: /Library/Frameworks/R.framework/Resources/bin/R CMD INSTALL IPO StartedAt: 2025-02-04 15:32:47 -0500 (Tue, 04 Feb 2025) EndedAt: 2025-02-04 15:33:44 -0500 (Tue, 04 Feb 2025) EllapsedTime: 56.6 seconds RetCode: 0 Status: OK