Package: IPO Version: 1.33.0 Command: /home/biocbuild/bbs-3.21-bioc/R/bin/R CMD build --keep-empty-dirs --no-resave-data IPO StartedAt: 2025-02-04 17:44:49 -0500 (Tue, 04 Feb 2025) EndedAt: 2025-02-04 18:01:20 -0500 (Tue, 04 Feb 2025) EllapsedTime: 990.4 seconds RetCode: 0 Status: OK PackageFile: IPO_1.33.0.tar.gz PackageFileSize: 768 KiB