Package: IPO Version: 1.33.0 Command: rm -rf IPO.buildbin-libdir && mkdir IPO.buildbin-libdir && E:\biocbuild\bbs-3.21-bioc\R\bin\R.exe CMD INSTALL --build --library=IPO.buildbin-libdir IPO_1.33.0.tar.gz StartedAt: 2025-02-05 08:10:35 -0500 (Wed, 05 Feb 2025) EndedAt: 2025-02-05 08:11:54 -0500 (Wed, 05 Feb 2025) EllapsedTime: 78.6 seconds RetCode: 0 Status: OK PackageFile: IPO_1.33.0.zip PackageFileSize: 496 KiB