Package: IPO Version: 1.33.0 Command: E:\biocbuild\bbs-3.21-bioc\R\bin\R.exe CMD INSTALL IPO StartedAt: 2025-02-04 16:29:36 -0500 (Tue, 04 Feb 2025) EndedAt: 2025-02-04 16:30:28 -0500 (Tue, 04 Feb 2025) EllapsedTime: 52.5 seconds RetCode: 0 Status: OK