Package: IRanges Version: 2.41.2 Command: /Library/Frameworks/R.framework/Resources/bin/R CMD INSTALL IRanges StartedAt: 2025-02-09 15:02:13 -0500 (Sun, 09 Feb 2025) EndedAt: 2025-02-09 15:02:43 -0500 (Sun, 09 Feb 2025) EllapsedTime: 29.7 seconds RetCode: 0 Status: OK