Package: IRanges Version: 2.41.2 Command: /home/biocbuild/R/R/bin/R CMD build --keep-empty-dirs --no-resave-data IRanges StartedAt: 2025-01-28 23:47:54 -0000 (Tue, 28 Jan 2025) EndedAt: 2025-01-28 23:49:39 -0000 (Tue, 28 Jan 2025) EllapsedTime: 105.0 seconds RetCode: 0 Status: OK PackageFile: IRanges_2.41.2.tar.gz PackageFileSize: 462.3 KiB