Package: IRanges Version: 2.41.3 Command: /Library/Frameworks/R.framework/Resources/bin/R CMD check --install=check:IRanges.install-out.txt --library=/Library/Frameworks/R.framework/Resources/library --no-vignettes --timings IRanges_2.41.3.tar.gz StartedAt: 2025-02-12 21:13:59 -0500 (Wed, 12 Feb 2025) EndedAt: 2025-02-12 21:17:25 -0500 (Wed, 12 Feb 2025) EllapsedTime: 205.8 seconds RetCode: 0 Status: WARNINGS CheckDir: IRanges.Rcheck Warnings: 5