Package: IRanges Version: 2.41.3 Command: E:\biocbuild\bbs-3.21-bioc\R\bin\R.exe CMD check --no-multiarch --install=check:IRanges.install-out.txt --library=E:\biocbuild\bbs-3.21-bioc\R\library --no-vignettes --timings IRanges_2.41.3.tar.gz StartedAt: 2025-02-13 02:22:35 -0500 (Thu, 13 Feb 2025) EndedAt: 2025-02-13 02:26:24 -0500 (Thu, 13 Feb 2025) EllapsedTime: 228.6 seconds RetCode: 0 Status: WARNINGS CheckDir: IRanges.Rcheck Warnings: 3