Package: IVAS Version: 2.27.0 Maintainer: Seonggyun Han MaintainerEmail: hangost at ssu.ac.kr git_url: https://git.bioconductor.org/packages/IVAS git_branch: devel git_last_commit: 19b8da0 git_last_commit_date: 2024-10-29 09:58:10 -0500 (Tue, 29 Oct 2024)