Package: IVAS Version: 2.27.0 Command: rm -rf IVAS.buildbin-libdir && mkdir IVAS.buildbin-libdir && /Users/biocbuild/BBS/utils/build-universal.sh IVAS_2.27.0.tar.gz /Library/Frameworks/R.framework/Resources/bin/R IVAS.buildbin-libdir StartedAt: 2025-02-09 22:18:47 -0500 (Sun, 09 Feb 2025) EndedAt: 2025-02-09 22:19:05 -0500 (Sun, 09 Feb 2025) EllapsedTime: 17.4 seconds RetCode: 0 Status: OK PackageFile: IVAS_2.27.0.tgz PackageFileSize: 682.5 KiB