Package: IVAS Version: 2.27.0 Command: /Library/Frameworks/R.framework/Resources/bin/R CMD check --install=check:IVAS.install-out.txt --library=/Library/Frameworks/R.framework/Resources/library --no-vignettes --timings IVAS_2.27.0.tar.gz StartedAt: 2025-02-03 20:26:10 -0500 (Mon, 03 Feb 2025) EndedAt: 2025-02-03 20:28:06 -0500 (Mon, 03 Feb 2025) EllapsedTime: 116.5 seconds RetCode: 0 Status: WARNINGS CheckDir: IVAS.Rcheck Warnings: 1