Package: IVAS Version: 2.27.0 Command: /home/biocbuild/R/R/bin/R CMD check --install=check:IVAS.install-out.txt --library=/home/biocbuild/R/R/site-library --no-vignettes --timings IVAS_2.27.0.tar.gz StartedAt: 2025-01-28 11:49:06 -0000 (Tue, 28 Jan 2025) EndedAt: 2025-01-28 11:55:50 -0000 (Tue, 28 Jan 2025) EllapsedTime: 403.6 seconds RetCode: 0 Status: WARNINGS CheckDir: IVAS.Rcheck Warnings: 1