Package: IVAS Version: 2.27.0 Command: /home/biocbuild/R/R/bin/R CMD INSTALL IVAS StartedAt: 2025-01-29 19:51:24 -0000 (Wed, 29 Jan 2025) EndedAt: 2025-01-29 19:52:19 -0000 (Wed, 29 Jan 2025) EllapsedTime: 54.4 seconds RetCode: 0 Status: OK