Package: IVAS Version: 2.27.0 Command: rm -rf IVAS.buildbin-libdir && mkdir IVAS.buildbin-libdir && /Users/biocbuild/BBS/utils/build-universal.sh IVAS_2.27.0.tar.gz /Library/Frameworks/R.framework/Resources/bin/R IVAS.buildbin-libdir StartedAt: 2025-02-10 00:59:32 -0500 (Mon, 10 Feb 2025) EndedAt: 2025-02-10 01:00:31 -0500 (Mon, 10 Feb 2025) EllapsedTime: 59.0 seconds RetCode: 0 Status: OK PackageFile: IVAS_2.27.0.tgz PackageFileSize: 681.8 KiB