Package: IVAS Version: 2.27.0 Command: /Library/Frameworks/R.framework/Resources/bin/R CMD build --keep-empty-dirs --no-resave-data IVAS StartedAt: 2025-02-09 17:13:32 -0500 (Sun, 09 Feb 2025) EndedAt: 2025-02-09 17:14:46 -0500 (Sun, 09 Feb 2025) EllapsedTime: 74.3 seconds RetCode: 0 Status: OK PackageFile: IVAS_2.27.0.tar.gz PackageFileSize: 252.7 KiB