Package: IVAS Version: 2.27.0 Command: /Library/Frameworks/R.framework/Resources/bin/R CMD check --install=check:IVAS.install-out.txt --library=/Library/Frameworks/R.framework/Resources/library --no-vignettes --timings IVAS_2.27.0.tar.gz StartedAt: 2025-02-09 21:30:29 -0500 (Sun, 09 Feb 2025) EndedAt: 2025-02-09 21:36:15 -0500 (Sun, 09 Feb 2025) EllapsedTime: 346.2 seconds RetCode: 0 Status: WARNINGS CheckDir: IVAS.Rcheck Warnings: 1