Package: IVAS Version: 2.27.0 Command: /Library/Frameworks/R.framework/Resources/bin/R CMD INSTALL IVAS StartedAt: 2025-02-09 15:18:34 -0500 (Sun, 09 Feb 2025) EndedAt: 2025-02-09 15:19:29 -0500 (Sun, 09 Feb 2025) EllapsedTime: 55.1 seconds RetCode: 0 Status: OK