Package: IVAS Version: 2.27.0 Command: /home/biocbuild/bbs-3.21-bioc/R/bin/R CMD INSTALL IVAS StartedAt: 2025-02-03 15:52:12 -0500 (Mon, 03 Feb 2025) EndedAt: 2025-02-03 15:52:54 -0500 (Mon, 03 Feb 2025) EllapsedTime: 42.1 seconds RetCode: 0 Status: OK