Package: IVAS Version: 2.27.0 Command: chmod a+r IVAS -R && E:\biocbuild\bbs-3.21-bioc\R\bin\R.exe CMD build --keep-empty-dirs --no-resave-data IVAS StartedAt: 2025-02-09 19:29:08 -0500 (Sun, 09 Feb 2025) EndedAt: 2025-02-09 19:30:33 -0500 (Sun, 09 Feb 2025) EllapsedTime: 85.3 seconds RetCode: 0 Status: OK PackageFile: IVAS_2.27.0.tar.gz PackageFileSize: 245.4 KiB