Package: IVAS Version: 2.27.0 Command: E:\biocbuild\bbs-3.21-bioc\R\bin\R.exe CMD INSTALL IVAS StartedAt: 2025-02-09 16:26:57 -0500 (Sun, 09 Feb 2025) EndedAt: 2025-02-09 16:27:46 -0500 (Sun, 09 Feb 2025) EllapsedTime: 49.1 seconds RetCode: 0 Status: OK