Package: IWTomics Version: 1.31.0 Command: /Library/Frameworks/R.framework/Resources/bin/R CMD check --install=check:IWTomics.install-out.txt --library=/Library/Frameworks/R.framework/Resources/library --no-vignettes --timings IWTomics_1.31.0.tar.gz StartedAt: 2025-02-09 19:49:00 -0500 (Sun, 09 Feb 2025) EndedAt: 2025-02-09 19:50:10 -0500 (Sun, 09 Feb 2025) EllapsedTime: 70.9 seconds RetCode: 0 Status: WARNINGS CheckDir: IWTomics.Rcheck Warnings: 1