Package: IWTomics Version: 1.31.0 Command: chmod a+r IWTomics -R && E:\biocbuild\bbs-3.21-bioc\R\bin\R.exe CMD build --keep-empty-dirs --no-resave-data IWTomics StartedAt: 2025-02-09 19:29:24 -0500 (Sun, 09 Feb 2025) EndedAt: 2025-02-09 19:32:05 -0500 (Sun, 09 Feb 2025) EllapsedTime: 161.0 seconds RetCode: 0 Status: OK PackageFile: IWTomics_1.31.0.tar.gz PackageFileSize: 1.248 MiB