Package: IWTomics Version: 1.31.0 Command: E:\biocbuild\bbs-3.21-bioc\R\bin\R.exe CMD check --no-multiarch --install=check:IWTomics.install-out.txt --library=E:\biocbuild\bbs-3.21-bioc\R\library --no-vignettes --timings IWTomics_1.31.0.tar.gz StartedAt: 2025-02-10 02:18:23 -0500 (Mon, 10 Feb 2025) EndedAt: 2025-02-10 02:22:25 -0500 (Mon, 10 Feb 2025) EllapsedTime: 241.5 seconds RetCode: 0 Status: WARNINGS CheckDir: IWTomics.Rcheck Warnings: 1