Package: IdeoViz Version: 1.43.0 Command: /home/biocbuild/R/R/bin/R CMD check --install=check:IdeoViz.install-out.txt --library=/home/biocbuild/R/R/site-library --no-vignettes --timings IdeoViz_1.43.0.tar.gz StartedAt: 2025-01-28 11:36:16 -0000 (Tue, 28 Jan 2025) EndedAt: 2025-01-28 11:39:18 -0000 (Tue, 28 Jan 2025) EllapsedTime: 182.2 seconds RetCode: 0 Status: WARNINGS CheckDir: IdeoViz.Rcheck Warnings: 2