Package: IdeoViz Version: 1.43.0 Command: /Library/Frameworks/R.framework/Resources/bin/R CMD check --install=check:IdeoViz.install-out.txt --library=/Library/Frameworks/R.framework/Resources/library --no-vignettes --timings IdeoViz_1.43.0.tar.gz StartedAt: 2025-02-09 21:21:35 -0500 (Sun, 09 Feb 2025) EndedAt: 2025-02-09 21:24:10 -0500 (Sun, 09 Feb 2025) EllapsedTime: 155.3 seconds RetCode: 0 Status: WARNINGS CheckDir: IdeoViz.Rcheck Warnings: 2