Package: IdeoViz Version: 1.43.0 Command: /home/biocbuild/bbs-3.21-bioc/R/bin/R CMD build --keep-empty-dirs --no-resave-data IdeoViz StartedAt: 2025-02-09 17:42:24 -0500 (Sun, 09 Feb 2025) EndedAt: 2025-02-09 17:42:25 -0500 (Sun, 09 Feb 2025) EllapsedTime: 1.0 seconds RetCode: 0 Status: OK PackageFile: IdeoViz_1.43.0.tar.gz PackageFileSize: 411.8 KiB