Package: IdeoViz Version: 1.43.0 Command: /home/biocbuild/bbs-3.21-bioc/R/bin/R CMD INSTALL IdeoViz StartedAt: 2025-02-09 15:30:47 -0500 (Sun, 09 Feb 2025) EndedAt: 2025-02-09 15:31:16 -0500 (Sun, 09 Feb 2025) EllapsedTime: 28.9 seconds RetCode: 0 Status: OK