Package: IdeoViz Version: 1.43.0 Command: chmod a+r IdeoViz -R && E:\biocbuild\bbs-3.21-bioc\R\bin\R.exe CMD build --keep-empty-dirs --no-resave-data IdeoViz StartedAt: 2025-02-09 19:19:05 -0500 (Sun, 09 Feb 2025) EndedAt: 2025-02-09 19:19:08 -0500 (Sun, 09 Feb 2025) EllapsedTime: 3.0 seconds RetCode: 0 Status: OK PackageFile: IdeoViz_1.43.0.tar.gz PackageFileSize: 411.7 KiB