Package: IdeoViz Version: 1.43.0 Command: E:\biocbuild\bbs-3.21-bioc\R\bin\R.exe CMD check --no-multiarch --install=check:IdeoViz.install-out.txt --library=E:\biocbuild\bbs-3.21-bioc\R\library --no-vignettes --timings IdeoViz_1.43.0.tar.gz StartedAt: 2025-02-04 02:31:25 -0500 (Tue, 04 Feb 2025) EndedAt: 2025-02-04 02:33:56 -0500 (Tue, 04 Feb 2025) EllapsedTime: 150.8 seconds RetCode: 0 Status: WARNINGS CheckDir: IdeoViz.Rcheck Warnings: 2