Package: IdeoViz Version: 1.43.0 Command: E:\biocbuild\bbs-3.21-bioc\R\bin\R.exe CMD INSTALL IdeoViz StartedAt: 2025-02-03 16:41:45 -0500 (Mon, 03 Feb 2025) EndedAt: 2025-02-03 16:42:22 -0500 (Mon, 03 Feb 2025) EllapsedTime: 36.9 seconds RetCode: 0 Status: OK