Package: IgGeneUsage Version: 1.21.0 Command: rm -rf IgGeneUsage.buildbin-libdir && mkdir IgGeneUsage.buildbin-libdir && /Users/biocbuild/BBS/utils/build-universal.sh IgGeneUsage_1.21.0.tar.gz /Library/Frameworks/R.framework/Resources/bin/R IgGeneUsage.buildbin-libdir StartedAt: 2025-02-03 22:53:39 -0500 (Mon, 03 Feb 2025) EndedAt: 2025-02-03 22:56:21 -0500 (Mon, 03 Feb 2025) EllapsedTime: 161.6 seconds RetCode: 0 Status: OK PackageFile: IgGeneUsage_1.21.0.tgz PackageFileSize: 2.979 MiB