Package: IgGeneUsage Version: 1.21.0 Command: /Library/Frameworks/R.framework/Resources/bin/R CMD check --install=check:IgGeneUsage.install-out.txt --library=/Library/Frameworks/R.framework/Resources/library --no-vignettes --timings IgGeneUsage_1.21.0.tar.gz StartedAt: 2025-02-03 20:18:51 -0500 (Mon, 03 Feb 2025) EndedAt: 2025-02-03 20:22:25 -0500 (Mon, 03 Feb 2025) EllapsedTime: 213.5 seconds RetCode: 0 Status: OK CheckDir: IgGeneUsage.Rcheck Warnings: 0