Package: IgGeneUsage Version: 1.21.0 Command: /Library/Frameworks/R.framework/Resources/bin/R CMD INSTALL IgGeneUsage StartedAt: 2025-02-09 15:06:28 -0500 (Sun, 09 Feb 2025) EndedAt: 2025-02-09 15:08:56 -0500 (Sun, 09 Feb 2025) EllapsedTime: 148.3 seconds RetCode: 0 Status: OK