Package: IgGeneUsage Version: 1.21.0 Command: rm -rf IgGeneUsage.buildbin-libdir && mkdir IgGeneUsage.buildbin-libdir && /Users/biocbuild/BBS/utils/build-universal.sh IgGeneUsage_1.21.0.tar.gz /Library/Frameworks/R.framework/Resources/bin/R IgGeneUsage.buildbin-libdir StartedAt: 2025-02-10 00:58:25 -0500 (Mon, 10 Feb 2025) EndedAt: 2025-02-10 01:09:19 -0500 (Mon, 10 Feb 2025) EllapsedTime: 654.2 seconds RetCode: 0 Status: OK PackageFile: IgGeneUsage_1.21.0.tgz PackageFileSize: 3.269 MiB