Package: IgGeneUsage Version: 1.21.0 Command: /Library/Frameworks/R.framework/Resources/bin/R CMD build --keep-empty-dirs --no-resave-data IgGeneUsage StartedAt: 2025-02-09 17:08:14 -0500 (Sun, 09 Feb 2025) EndedAt: 2025-02-09 17:24:10 -0500 (Sun, 09 Feb 2025) EllapsedTime: 956.9 seconds RetCode: 0 Status: OK PackageFile: IgGeneUsage_1.21.0.tar.gz PackageFileSize: 1.204 MiB