Package: IgGeneUsage Version: 1.21.0 Command: /home/biocbuild/bbs-3.21-bioc/R/bin/R CMD build --keep-empty-dirs --no-resave-data IgGeneUsage StartedAt: 2025-02-09 17:42:48 -0500 (Sun, 09 Feb 2025) EndedAt: 2025-02-09 17:59:59 -0500 (Sun, 09 Feb 2025) EllapsedTime: 1031.3 seconds RetCode: 0 Status: OK PackageFile: IgGeneUsage_1.21.0.tar.gz PackageFileSize: 1.294 MiB