Package: IgGeneUsage Version: 1.21.0 Command: /home/biocbuild/bbs-3.21-bioc/R/bin/R CMD check --install=check:IgGeneUsage.install-out.txt --library=/home/biocbuild/bbs-3.21-bioc/R/site-library --timings IgGeneUsage_1.21.0.tar.gz StartedAt: 2025-02-09 23:17:19 -0500 (Sun, 09 Feb 2025) EndedAt: 2025-02-09 23:34:40 -0500 (Sun, 09 Feb 2025) EllapsedTime: 1041.3 seconds RetCode: 0 Status: OK CheckDir: IgGeneUsage.Rcheck Warnings: 0