Package: IgGeneUsage Version: 1.21.0 Command: rm -rf IgGeneUsage.buildbin-libdir && mkdir IgGeneUsage.buildbin-libdir && E:\biocbuild\bbs-3.21-bioc\R\bin\R.exe CMD INSTALL --build --library=IgGeneUsage.buildbin-libdir IgGeneUsage_1.21.0.tar.gz StartedAt: 2025-02-05 08:08:39 -0500 (Wed, 05 Feb 2025) EndedAt: 2025-02-05 08:28:27 -0500 (Wed, 05 Feb 2025) EllapsedTime: 1187.5 seconds RetCode: 0 Status: OK PackageFile: IgGeneUsage_1.21.0.zip PackageFileSize: 2.514 MiB