Package: IgGeneUsage Version: 1.21.0 Command: chmod a+r IgGeneUsage -R && E:\biocbuild\bbs-3.21-bioc\R\bin\R.exe CMD build --keep-empty-dirs --no-resave-data IgGeneUsage StartedAt: 2025-02-04 19:22:37 -0500 (Tue, 04 Feb 2025) EndedAt: 2025-02-04 19:45:29 -0500 (Tue, 04 Feb 2025) EllapsedTime: 1372.6 seconds RetCode: 0 Status: OK PackageFile: IgGeneUsage_1.21.0.tar.gz PackageFileSize: 600.3 KiB