Package: IgGeneUsage Version: 1.21.0 Command: E:\biocbuild\bbs-3.21-bioc\R\bin\R.exe CMD check --no-multiarch --install=check:IgGeneUsage.install-out.txt --library=E:\biocbuild\bbs-3.21-bioc\R\library --no-vignettes --timings IgGeneUsage_1.21.0.tar.gz StartedAt: 2025-02-05 02:31:12 -0500 (Wed, 05 Feb 2025) EndedAt: 2025-02-05 02:46:28 -0500 (Wed, 05 Feb 2025) EllapsedTime: 916.2 seconds RetCode: 0 Status: OK CheckDir: IgGeneUsage.Rcheck Warnings: 0