Package: IgGeneUsage Version: 1.21.0 Command: E:\biocbuild\bbs-3.21-bioc\R\bin\R.exe CMD INSTALL IgGeneUsage StartedAt: 2025-02-04 15:59:58 -0500 (Tue, 04 Feb 2025) EndedAt: 2025-02-04 16:21:37 -0500 (Tue, 04 Feb 2025) EllapsedTime: 1298.6 seconds RetCode: 0 Status: OK