Package: InTAD Version: 1.27.0 Maintainer: Konstantin Okonechnikov MaintainerEmail: k.okonechnikov at gmail.com git_url: https://git.bioconductor.org/packages/InTAD git_branch: devel git_last_commit: 4f6fc18 git_last_commit_date: 2024-10-29 10:27:36 -0500 (Tue, 29 Oct 2024)