Package: InTAD Version: 1.27.0 Command: rm -rf InTAD.buildbin-libdir && mkdir InTAD.buildbin-libdir && /Users/biocbuild/BBS/utils/build-universal.sh InTAD_1.27.0.tar.gz /Library/Frameworks/R.framework/Resources/bin/R InTAD.buildbin-libdir StartedAt: 2025-02-09 22:18:09 -0500 (Sun, 09 Feb 2025) EndedAt: 2025-02-09 22:18:25 -0500 (Sun, 09 Feb 2025) EllapsedTime: 16.3 seconds RetCode: 0 Status: OK PackageFile: InTAD_1.27.0.tgz PackageFileSize: 1.478 MiB