Package: InTAD Version: 1.27.0 Command: /home/biocbuild/R/R/bin/R CMD build --keep-empty-dirs --no-resave-data InTAD StartedAt: 2025-01-28 23:45:33 -0000 (Tue, 28 Jan 2025) EndedAt: 2025-01-28 23:46:58 -0000 (Tue, 28 Jan 2025) EllapsedTime: 85.0 seconds RetCode: 0 Status: OK PackageFile: InTAD_1.27.0.tar.gz PackageFileSize: 966.7 KiB