Package: InTAD Version: 1.27.0 Command: /home/biocbuild/R/R/bin/R CMD INSTALL InTAD StartedAt: 2025-01-29 20:32:22 -0000 (Wed, 29 Jan 2025) EndedAt: 2025-01-29 20:33:13 -0000 (Wed, 29 Jan 2025) EllapsedTime: 50.7 seconds RetCode: 0 Status: OK