Package: InTAD Version: 1.27.0 Command: /home/biocbuild/bbs-3.21-bioc/R/bin/R CMD build --keep-empty-dirs --no-resave-data InTAD StartedAt: 2025-02-09 17:45:18 -0500 (Sun, 09 Feb 2025) EndedAt: 2025-02-09 17:46:19 -0500 (Sun, 09 Feb 2025) EllapsedTime: 61.0 seconds RetCode: 0 Status: OK PackageFile: InTAD_1.27.0.tar.gz PackageFileSize: 1.184 MiB