Package: InTAD Version: 1.27.0 Command: chmod a+r InTAD -R && E:\biocbuild\bbs-3.21-bioc\R\bin\R.exe CMD build --keep-empty-dirs --no-resave-data InTAD StartedAt: 2025-02-09 19:23:35 -0500 (Sun, 09 Feb 2025) EndedAt: 2025-02-09 19:24:48 -0500 (Sun, 09 Feb 2025) EllapsedTime: 72.5 seconds RetCode: 0 Status: OK PackageFile: InTAD_1.27.0.tar.gz PackageFileSize: 902.7 KiB